BEGIN:VCALENDAR
VERSION:2.0
PRODID:-//AudioTheme 2.0.3
BEGIN:VEVENT
UID:urn:uuid:843efed5-846e-4edc-a92a-420450e28c83
URL:https://www.utelemper.com/shows/ute-lemper-sings-kurt-weill-9/
DTSTART;TZID=GMT:20250613T183000
SUMMARY:Ute Lemper sings Kurt Weill
LOCATION:Cadogan Hall\, 5 Sloane Terrace\, London\, England\, United Kingdom\, SW1X 9DQ
END:VEVENT
END:VCALENDAR
