BEGIN:VCALENDAR
VERSION:2.0
PRODID:-//AudioTheme 2.0.3
BEGIN:VEVENT
UID:urn:uuid:3d999705-2c11-4419-8097-3a6a4fd2b27f
URL:https://www.utelemper.com/shows/tv-broadcast/
DTSTART;VALUE=DATE:20181121
SUMMARY:TV Broadcast
LOCATION:Berliner Dom\, Am Lustgarten\, Berlin\, \, Germany\, 10178
END:VEVENT
END:VCALENDAR
