BEGIN:VCALENDAR
VERSION:2.0
PRODID:-//AudioTheme 2.0.3
BEGIN:VEVENT
UID:urn:uuid:5d12b3a0-cb98-4ccd-aab7-accb45038ff6
URL:https://www.utelemper.com/shows/songs-for-eternity/
DTSTART;VALUE=DATE:20190125
SUMMARY:Songs For Eternity
LOCATION:Texas Technical University\, 2500 Broadway\, Lubbock\, TX\, United States\, 79409
END:VEVENT
END:VCALENDAR
