BEGIN:VCALENDAR
VERSION:2.0
PRODID:-//AudioTheme 2.0.3
BEGIN:VEVENT
UID:urn:uuid:0c2cf70a-91cc-40a6-98b5-99e80ba1b71e
URL:https://www.utelemper.com/shows/songs-for-eternity-5/
DTSTART;VALUE=DATE:20190201
SUMMARY:Songs For Eternity
LOCATION:Teatro Toselli\, Via Teatro Giovanni Toselli\, 9\, Cuneo\, Cuneo\, Italy\, 12100
END:VEVENT
END:VCALENDAR
