BEGIN:VCALENDAR
VERSION:2.0
PRODID:-//AudioTheme 2.0.3
BEGIN:VEVENT
UID:urn:uuid:667fcd30-af3d-4880-be50-556d3bc04c50
URL:https://www.utelemper.com/shows/rendezvous-with-marlene-65/
DTSTART;TZID=GMT:20191026T190000
SUMMARY:Rendezvous with Marlene
LOCATION:TEATRE-AUDITORI SANT CUGAT\, Plaça de Victòria dels Àngels\, 1\, Sant Cugat del Valles\, Barcelona\, Spain\, 08172
END:VEVENT
END:VCALENDAR
