BEGIN:VCALENDAR
VERSION:2.0
PRODID:-//AudioTheme 2.0.3
BEGIN:VEVENT
UID:urn:uuid:1b72a8c9-510f-48a0-8820-41bafdc5b883
URL:https://www.utelemper.com/shows/rendezvous-with-marlene-58/
DTSTART;VALUE=DATE:20190629
SUMMARY:Rendezvous with Marlene
LOCATION:Solomeo Theater\, Solomeo\, \, Italy
END:VEVENT
END:VCALENDAR
