BEGIN:VCALENDAR
VERSION:2.0
PRODID:-//AudioTheme 2.0.3
BEGIN:VEVENT
UID:urn:uuid:e8d23a19-a56c-4497-b725-a3fbdf99c64e
URL:https://www.utelemper.com/shows/rendezvous-with-marlene-4/
DTSTART;TZID=GMT:20190315T183000
SUMMARY:Rendezvous with Marlene
LOCATION:Anhaltisches Theater\, Friedenspl. 1A\, Dessau\, \, Germany\, 06844
END:VEVENT
END:VCALENDAR
