BEGIN:VCALENDAR
VERSION:2.0
PRODID:-//AudioTheme 2.0.3
BEGIN:VEVENT
UID:urn:uuid:8b761f0e-9c84-41e5-8c2e-078f79c9e658
URL:https://www.utelemper.com/shows/rendezvous-with-marlene-31/
DTSTART;TZID=GMT:20190317T183000
SUMMARY:Rendezvous with Marlene
LOCATION:Veranstaltungszentrum Kulturkirche\, Karl-Marx-Straße 88\, Neuruppin\, \, Germany\, 16816
END:VEVENT
END:VCALENDAR
