BEGIN:VCALENDAR
VERSION:2.0
PRODID:-//AudioTheme 2.0.3
BEGIN:VEVENT
UID:urn:uuid:a1a6e7d1-3a9c-482d-b89d-eea5f696e2b8
URL:https://www.utelemper.com/shows/rendezvous-with-marlene-30/
DTSTART;VALUE=DATE:20191109
SUMMARY:Rendezvous With Marlene
LOCATION:ARTIKUSS\, 3\, rue Jean Anen\, Soleuvre\, \, Luxemburg\, L-4413
END:VEVENT
END:VCALENDAR
