BEGIN:VCALENDAR
VERSION:2.0
PRODID:-//AudioTheme 2.0.3
BEGIN:VEVENT
UID:urn:uuid:af8c8c34-1ab6-4f4e-abba-441ad3808bbc
URL:https://www.utelemper.com/shows/rendezvous-with-marlene-25/
DTSTART;VALUE=DATE:20190530
SUMMARY:Rendezvous with Marlene
LOCATION:Teatro Colón 2\, Avenida Marina\, n7A\, Coruña\, \, Spain\, 15001
END:VEVENT
END:VCALENDAR
