BEGIN:VCALENDAR
VERSION:2.0
PRODID:-//AudioTheme 2.0.3
BEGIN:VEVENT
UID:urn:uuid:ab26bd1f-9b45-4ff2-bc48-4665ff09cb50
URL:https://www.utelemper.com/shows/rendezvous-with-marlene-21/
DTSTART;TZID=GMT:20190214T183000
SUMMARY:Rendezvous with Marlene
LOCATION:Staatstheater Kassel\, Opernhaus\, Friedrichsplatz 15\, Kassel\, \, Germany\, 34117
END:VEVENT
END:VCALENDAR
