BEGIN:VCALENDAR
VERSION:2.0
PRODID:-//AudioTheme 2.0.3
BEGIN:VEVENT
UID:urn:uuid:7c2d95f3-f770-4af7-a215-b7ad4515e075
URL:https://www.utelemper.com/shows/rendezvous-with-marlene-18/
DTSTART;TZID=GMT:20190608T093000
SUMMARY:Rendezvous with Marlene
LOCATION:Thebarton Theatre\, 112 Henley Beach Road\, Adelaide\, \, Australia\, 5031
END:VEVENT
END:VCALENDAR
