BEGIN:VCALENDAR
VERSION:2.0
PRODID:-//AudioTheme 2.0.3
BEGIN:VEVENT
UID:urn:uuid:ed22c481-97a9-4756-bb77-6b924110e072
URL:https://www.utelemper.com/shows/rendezvous-with-marlene-17/
DTSTART;TZID=GMT:20190209T180000
SUMMARY:Rendezvous with Marlene
LOCATION:Zorlu Center\, Levazım Mah.\, Koru Sok. No:2\, Istanbul\, Beşiktaş\, Turkey\, 34340
END:VEVENT
END:VCALENDAR
