BEGIN:VCALENDAR
VERSION:2.0
PRODID:-//AudioTheme 2.0.3
BEGIN:VEVENT
UID:urn:uuid:bb04eea6-83f7-4b1f-ade9-aa9360fe464f
URL:https://www.utelemper.com/shows/new-special-weimar-program-2/
DTSTART;VALUE=DATE:20230120
SUMMARY:New Special Weimar Program
LOCATION:Café Sabarsky\, Neue Galerie\, 1048 5th Ave\, New York\, NY\, United States\, 10028
END:VEVENT
END:VCALENDAR
