BEGIN:VCALENDAR
VERSION:2.0
PRODID:-//AudioTheme 2.0.3
BEGIN:VEVENT
UID:urn:uuid:76c3039d-29f7-4684-8ef8-818113067ba5
URL:https://www.utelemper.com/shows/gig-77/
DTSTART;TZID=GMT:20170530T173000
SUMMARY:Piccolo Teatro Strehler
LOCATION:Piccolo Teatro Strehler\, Via Rovello 2\, 20121 Milano\, Milano\, Lombardia\, Italy\, 20121
END:VEVENT
END:VCALENDAR
