BEGIN:VCALENDAR
VERSION:2.0
PRODID:-//AudioTheme 2.0.3
BEGIN:VEVENT
UID:urn:uuid:d87ea2e5-8bf1-4c1b-b6dc-dae665f5598f
URL:https://www.utelemper.com/shows/gig-2201/
DTSTART;TZID=GMT:20190524T180000
SUMMARY:Stadtkind
LOCATION:Festspielhaus Baden-Baden\, Beim Alten Bahnhof 2\, Baden-Baden\, \, Germany\, 76530
END:VEVENT
END:VCALENDAR
