BEGIN:VCALENDAR
VERSION:2.0
PRODID:-//AudioTheme 2.0.3
BEGIN:VEVENT
UID:urn:uuid:a0bd14fc-1ab9-4f26-b39e-469e638ba898
URL:https://www.utelemper.com/shows/gig-1931/
DTSTART;TZID=GMT:20171110T000000
SUMMARY:Snape Maltings Concert Hall
LOCATION:Snape Maltings Concert Hall\, Snape\, Suffolk\, United Kingdom\, IP17 1SP
END:VEVENT
END:VCALENDAR
