BEGIN:VCALENDAR
VERSION:2.0
PRODID:-//AudioTheme 2.0.3
BEGIN:VEVENT
UID:urn:uuid:2bd887e8-f909-4417-bdd1-73c21223108b
URL:https://www.utelemper.com/shows/gig-1725/
DTSTART;TZID=GMT:20180203T020000
SUMMARY:McCullough Theatre
LOCATION:McCullough Theatre\, 2375 Robert Dedman Drive\, Austin\, TX\, United States\, 78705
END:VEVENT
END:VCALENDAR
