BEGIN:VCALENDAR
VERSION:2.0
PRODID:-//AudioTheme 2.0.3
BEGIN:VEVENT
UID:urn:uuid:9234acb5-a035-4554-ad43-bc44d13e8327
URL:https://www.utelemper.com/shows/gig-1721/
DTSTART;TZID=GMT:20180123T190000
SUMMARY:Elbphilharmonie - Chamber Hall
LOCATION:Elbphilharmonie - Chamber Hall\, Platz der Deutschen Einheit 1\, Hamburg\, \, Germany\, 20457
END:VEVENT
END:VCALENDAR
