BEGIN:VCALENDAR
VERSION:2.0
PRODID:-//AudioTheme 2.0.3
BEGIN:VEVENT
UID:urn:uuid:b6afe422-8122-4a21-bbe7-2458dbadf3dd
URL:https://www.utelemper.com/shows/gig-1715/
DTSTART;TZID=GMT:20171119T200000
SUMMARY:Teatro Cristallo
LOCATION:Teatro Cristallo\, Via Dalmazia 30\, Bolzano\, BZ\, Italy\, 39100
END:VEVENT
END:VCALENDAR
