BEGIN:VCALENDAR
VERSION:2.0
PRODID:-//AudioTheme 2.0.3
BEGIN:VEVENT
UID:urn:uuid:82d38150-d1ab-4e9a-841c-86852ae93dad
URL:https://www.utelemper.com/shows/gig-1419/
DTSTART;TZID=GMT:20171117T183000
SUMMARY:Wiener Konzerthaus 2
LOCATION:Wiener Konzerthaus 2\, Mozart-Saal\, 20 Lothringerstraße\, Wien\, \, Austria\, 1030
END:VEVENT
END:VCALENDAR
