BEGIN:VCALENDAR
VERSION:2.0
PRODID:-//AudioTheme 2.0.3
BEGIN:VEVENT
UID:urn:uuid:93e40578-c9e4-4b08-86a7-c77a8c070efe
URL:https://www.utelemper.com/shows/gig-1363/
DTSTART;TZID=GMT:20171022T190000
SUMMARY:Sage Gateshead
LOCATION:Sage Gateshead\, Saint Mary's Square\, Gateshead Quays\, England\, United Kingdom\, NE8 2JR
END:VEVENT
END:VCALENDAR
