BEGIN:VCALENDAR
VERSION:2.0
PRODID:-//AudioTheme 2.0.3
BEGIN:VEVENT
UID:urn:uuid:42ce8d50-1862-48da-a643-32a1ce0db565
URL:https://www.utelemper.com/shows/gig-1361/
DTSTART;TZID=GMT:20171021T183000
SUMMARY:The Queen's Hall
LOCATION:The Queen's Hall\, 85-89 Clerk Street\, Edinburgh\, Scotland\, United Kingdom\, EH8 9JG
END:VEVENT
END:VCALENDAR
