BEGIN:VCALENDAR
VERSION:2.0
PRODID:-//AudioTheme 2.0.3
BEGIN:VEVENT
UID:urn:uuid:4a02c40f-21a0-4d69-bdad-be1506ea67cf
URL:https://www.utelemper.com/shows/gig-1355/
DTSTART;TZID=GMT:20171019T190000
SUMMARY:St George's Bristol
LOCATION:St George's Bristol\, Great George Street (off Park Street)\, Bristol\, England\, United Kingdom\, BS1 5RR
END:VEVENT
END:VCALENDAR
