BEGIN:VCALENDAR
VERSION:2.0
PRODID:-//AudioTheme 2.0.3
BEGIN:VEVENT
UID:urn:uuid:2ffaf6dd-8a03-4a0b-bd72-9b467060add3
URL:https://www.utelemper.com/shows/gig-1352/
DTSTART;VALUE=DATE:20170930
SUMMARY:Centro Cultural Kirchner
LOCATION:Centro Cultural Kirchner\, 151 Sarmiento\, Buenos Aires\, CABA\, Argentina\, C1041
END:VEVENT
END:VCALENDAR
