BEGIN:VCALENDAR
VERSION:2.0
PRODID:-//AudioTheme 2.0.3
BEGIN:VEVENT
UID:urn:uuid:9e57e469-4d0e-4594-9721-2d5c3a83f491
URL:https://www.utelemper.com/shows/gig-1349/
DTSTART;TZID=GMT:20170923T230000
SUMMARY:Joe's Pub
LOCATION:Joe's Pub\, 425 Lafayette Street\, New York\, NY\, United States\, 10003
END:VEVENT
END:VCALENDAR
