BEGIN:VCALENDAR
VERSION:2.0
PRODID:-//AudioTheme 2.0.3
BEGIN:VEVENT
UID:urn:uuid:c00fde03-4846-45d2-82e4-b46f64e8e2c3
URL:https://www.utelemper.com/shows/gig-1347/
DTSTART;TZID=GMT:20170917T190000
SUMMARY:The Stables
LOCATION:The Stables\, Stockwell Lane\, Wavendon\, England\, United Kingdom\, MK17 8LU
END:VEVENT
END:VCALENDAR
