BEGIN:VCALENDAR
VERSION:2.0
PRODID:-//AudioTheme 2.0.3
BEGIN:VEVENT
UID:urn:uuid:bf09a585-3c20-4830-9b6a-0ff4e0a35016
URL:https://www.utelemper.com/shows/gig-1340/
DTSTART;TZID=GMT:20170831T190000
SUMMARY:Chiesa di San Domenico
LOCATION:Chiesa di San Domenico\, Via L. Signorelli\, Citta di Castello\, Umbria\, Italy\, 06012
END:VEVENT
END:VCALENDAR
