BEGIN:VCALENDAR
VERSION:2.0
PRODID:-//AudioTheme 2.0.3
BEGIN:VEVENT
UID:urn:uuid:27a17df2-60be-4d66-9147-8ad820bc52f4
URL:https://www.utelemper.com/shows/gig-1336/
DTSTART;TZID=GMT:20170828T180000
SUMMARY:Kulturzelt Braunschweig e. V.
LOCATION:Kulturzelt Braunschweig e. V.\, 3A Frankfurter Straße\, Braunschweig\, NDS\, Germany\, 38122
END:VEVENT
END:VCALENDAR
