BEGIN:VCALENDAR
VERSION:2.0
PRODID:-//AudioTheme 2.0.3
BEGIN:VEVENT
UID:urn:uuid:b221291b-ef74-4ac8-9d9e-e0e889d42a68
URL:https://www.utelemper.com/shows/gig-1227/
DTSTART;TZID=GMT:20170715T183000
SUMMARY:Dom zu Arlesheim 4144
LOCATION:Dom zu Arlesheim 4144\, Dom zu Arlesheim 4144\, Arlesheim\, BL\, Switzerland
END:VEVENT
END:VCALENDAR
