BEGIN:VCALENDAR
VERSION:2.0
PRODID:-//AudioTheme 2.0.3
BEGIN:VEVENT
UID:urn:uuid:a71ac290-31f6-410c-936d-a4e7bb72bf4b
URL:https://www.utelemper.com/shows/gig-1222/
DTSTART;TZID=GMT:20170708T180000
SUMMARY:Max-Littmann-Saal
LOCATION:Max-Littmann-Saal\, Ludwigstraße 2\, Bad Kissingen\, BY\, Germany
END:VEVENT
END:VCALENDAR
