BEGIN:VCALENDAR
VERSION:2.0
PRODID:-//AudioTheme 2.0.3
BEGIN:VEVENT
UID:urn:uuid:27a99168-359a-4e60-8e56-726a44cb127d
URL:https://www.utelemper.com/shows/gig-1218/
DTSTART;TZID=GMT:20170628T180000
SUMMARY:Stadthalle Theatersaal
LOCATION:Stadthalle Theatersaal\, Theodor-Heuss-Platz 1\, Mülheim\, NRW\, Germany\, 45479
END:VEVENT
END:VCALENDAR
