BEGIN:VCALENDAR
VERSION:2.0
PRODID:-//AudioTheme 2.0.3
BEGIN:VEVENT
UID:urn:uuid:a1469bcc-dd9a-4d39-847c-c60b1a2395a3
URL:https://www.utelemper.com/shows/gig-1212/
DTSTART;TZID=GMT:20170626T190000
SUMMARY:Piccolo Teatro Grassi
LOCATION:Piccolo Teatro Grassi\, 2 Via Rovello\, Milano\, Lombardia\, Italy\, 20121
END:VEVENT
END:VCALENDAR
