BEGIN:VCALENDAR
VERSION:2.0
PRODID:-//AudioTheme 2.0.3
BEGIN:VEVENT
UID:urn:uuid:5399f438-8749-44d3-ac4d-c40259b587f3
URL:https://www.utelemper.com/shows/7-deadly-sins-and-weimar-suite-3/
DTSTART;VALUE=DATE:20240104
SUMMARY:7 Deadly Sins and Weimar Suite
LOCATION:Fribourg\, Switzerland\, Fribourg\, \, Switzerland
END:VEVENT
END:VCALENDAR
