BEGIN:VCALENDAR
VERSION:2.0
PRODID:-//AudioTheme 2.0.3
BEGIN:VEVENT
UID:urn:uuid:e58c0517-5b15-4f56-b4d3-67a5bd823bca
URL:https://www.utelemper.com/shows/2017-05-20/
DTSTART;TZID=GMT:20170520T173000
SUMMARY:The Castle
LOCATION:The Castle\, Kato Paphos Harbour\, Coastal Broadwalk\, Paphos\, Cyprus\, Paphos\, Cyprus\, Cyprus
END:VEVENT
END:VCALENDAR
